BEGIN:VCALENDAR
PRODID:-//github.com/rianjs/ical.net//NONSGML ical.net 4.0//EN
VERSION:2.0
BEGIN:VTIMEZONE
TZID:Eastern Standard Time
X-LIC-LOCATION:America/New_York
BEGIN:STANDARD
DTSTART:20241103T020000
RRULE:FREQ=YEARLY;BYDAY=1SU;BYMONTH=11
TZNAME:EST
TZOFFSETFROM:-0400
TZOFFSETTO:-0500
END:STANDARD
BEGIN:DAYLIGHT
DTSTART:20250309T020000
RRULE:FREQ=YEARLY;BYDAY=2SU;BYMONTH=3
TZNAME:EDT
TZOFFSETFROM:-0500
TZOFFSETTO:-0400
END:DAYLIGHT
END:VTIMEZONE
BEGIN:VEVENT
DESCRIPTION:Registration opens in April.
DTEND;TZID=Eastern Standard Time:20260724T160000
DTSTAMP:20260423T185042Z
DTSTART;TZID=Eastern Standard Time:20260719T180000
LOCATION:Hotel Ithaca 222 South Cayuga Street Ithaca\, NY 14850-5510
ORGANIZER;CN=;SENT-BY="mailto:":
SEQUENCE:0
SUMMARY:NYSAA: Cornell Seminar on Professional Development
UID:bff383f9-d32e-4e85-86ab-c56095dcf2fc
END:VEVENT
END:VCALENDAR
